BEGIN:VCALENDAR
VERSION:2.0
PRODID:-//ChamberMaster//Event Calendar 2.0//EN
METHOD:PUBLISH
X-PUBLISHED-TTL:P3D
REFRESH-INTERVAL:P3D
CALSCALE:GREGORIAN
BEGIN:VEVENT
DTSTART:20260415T183000Z
DTEND:20260415T203000Z
X-MICROSOFT-CDO-ALLDAYEVENT:FALSE
SUMMARY:2026 Signature Speaker Series 1: How Sports & Sound Drive Our Economy
DESCRIPTION:Join us for our first Signature Speaker Series of the season featuring Gina Rotolo\, Vice President of Marketing and Communications at the Acrisure Arena.  She will speak on the topic\, "How Sports & Sound Drive Our Economy"\n\n\n\nNEW! Table Topic Networking - be ready to talk\, share and collaborate! \n\nNEW! Raffle Alert  \n\nWe're raffling off a signed team jersey + a 4-pack of playoff tickets to Round 1\, valued at $650. Be sure to bring cash to enter!\n\n\n\nFollowing the presentation we will have self introductions.  Please bring your business cards!  We will share all guest information with all attendees via email following the event.\nWe would like to extend our sincere thanks to Mission Hills Country Club for graciously hosting us and for their continued support.\n\nA special thank you to our sponsors:\n\nCity of Rancho Mirage\n\nDesert Arc Shredding & Recycling\n\nBanc of California\n\nMission Hills Country Club\n\nDPS Logistics\n\nWe truly appreciate your partnership and commitment to helping make this event a success.
X-ALT-DESC;FMTTYPE=text/html:Join us for our first Signature Speaker Series of the season featuring <strong>Gina Rotolo</strong>\, Vice President of Marketing and Communications at the Acrisure Arena.&nbsp\; She will speak on the topic\, &quot\;How Sports &amp\; Sound Drive Our Economy&quot\;<br />\n<br />\nNEW! Table Topic Networking - be ready to talk\, share and collaborate!&nbsp\;<br />\n<strong data-end="691" data-start="667">NEW! Raffle Alert &#127881\;</strong><br data-end="694" data-start="691" />\nWe&rsquo\;re raffling off a signed team jersey + a 4-pack of playoff tickets to Round 1\, valued at $650. Be sure to bring cash to enter!<br />\n<br />\nFollowing the presentation we will have self introductions.&nbsp\; Please bring your business cards!&nbsp\; We will share all guest information with all attendees via email following the event.\n<p data-end="205" data-start="68"><span class="BZ_Pyq_fadeIn">We </span><span class="BZ_Pyq_fadeIn">would </span><span class="BZ_Pyq_fadeIn">like </span><span class="BZ_Pyq_fadeIn">to </span><span class="BZ_Pyq_fadeIn">extend </span><span class="BZ_Pyq_fadeIn">our </span><span class="BZ_Pyq_fadeIn">sincere </span><span class="BZ_Pyq_fadeIn">thanks </span><span class="BZ_Pyq_fadeIn">to </span><strong data-end="144" data-start="114"><span class="BZ_Pyq_fadeIn">Mission </span><span class="BZ_Pyq_fadeIn">Hills </span><span class="BZ_Pyq_fadeIn">Country </span><span class="BZ_Pyq_fadeIn">Club</span></strong><span class="BZ_Pyq_fadeIn"> </span><span class="BZ_Pyq_fadeIn">for </span><span class="BZ_Pyq_fadeIn">graciously </span><span class="BZ_Pyq_fadeIn">hosting </span><span class="BZ_Pyq_fadeIn">us </span><span class="BZ_Pyq_fadeIn">and </span><span class="BZ_Pyq_fadeIn">for </span><span class="BZ_Pyq_fadeIn">their </span><span class="BZ_Pyq_fadeIn">continued </span><span class="BZ_Pyq_fadeIn">support.</span></p>\n\n<p data-end="245" data-start="207"><span class="BZ_Pyq_fadeIn">A </span><span class="BZ_Pyq_fadeIn">special </span><span class="BZ_Pyq_fadeIn">thank </span><span class="BZ_Pyq_fadeIn">you </span><span class="BZ_Pyq_fadeIn">to </span><span class="BZ_Pyq_fadeIn">our </span><span class="BZ_Pyq_fadeIn">sponsors:</span></p>\n\n<p data-end="313" data-start="247"><strong data-end="272" data-start="247"><span class="BZ_Pyq_fadeIn">City </span><span class="BZ_Pyq_fadeIn">of </span><span class="BZ_Pyq_fadeIn">Rancho </span><span class="BZ_Pyq_fadeIn">Mirage</span></strong><br data-end="275" data-start="272" />\n<strong data-end="311" data-start="275"><span class="BZ_Pyq_fadeIn">Desert </span><span class="BZ_Pyq_fadeIn">Arc </span><span class="BZ_Pyq_fadeIn">Shredding &amp\; </span><span class="BZ_Pyq_fadeIn">Recycling<br />\nBanc of California<br />\nMission Hills Country Club<br />\nDPS Logistics</span></strong></p>\n\n<p data-end="406" data-start="315"><span class="BZ_Pyq_fadeIn">We </span><span class="BZ_Pyq_fadeIn">truly </span><span class="BZ_Pyq_fadeIn">appreciate </span><span class="BZ_Pyq_fadeIn">your </span><span class="BZ_Pyq_fadeIn">partnership </span><span class="BZ_Pyq_fadeIn">and </span><span class="BZ_Pyq_fadeIn">commitment </span><span class="BZ_Pyq_fadeIn">to </span><span class="BZ_Pyq_fadeIn">helping </span><span class="BZ_Pyq_fadeIn">make </span><span class="BZ_Pyq_fadeIn">this </span><span class="BZ_Pyq_fadeIn">event </span><span class="BZ_Pyq_fadeIn">a </span><span class="BZ_Pyq_fadeIn">success.</span></p>\n
LOCATION:Mission Hills Country Club 34600 Mission Hills Drive Rancho Mirage
UID:e.241.5763
SEQUENCE:3
DTSTAMP:20260422T170048Z
URL:https://dev.leapstaging.com/events/details/2026-signature-speaker-series-1-how-sports-sound-drive-our-economy-5763
END:VEVENT

END:VCALENDAR
