BEGIN:VCALENDAR
VERSION:2.0
PRODID:-//ChamberMaster//Event Calendar 2.0//EN
METHOD:PUBLISH
X-PUBLISHED-TTL:P3D
REFRESH-INTERVAL:P3D
CALSCALE:GREGORIAN
BEGIN:VEVENT
DTSTART:20260819T183000Z
DTEND:20260819T203000Z
X-MICROSOFT-CDO-ALLDAYEVENT:FALSE
SUMMARY:2026 Signature Speaker Series: The Real Estate Roundup: Housing\, Retail\, and Beyond
DESCRIPTION:Join us for our fifth and final Signature Speaker Series of the season featuring Maggie Montez\, Lee & Associates Commercial Real Estate and Harma Hartouni\, Equity Union Real Estate delivering an update of the current real estate market for housing\, retail\, and beyond.\n\nFollowing the presentation we will have self introductions.  Please bring your business cards!  We will share all guest information with all attendees via email following the event.\nWe would like to extend our sincere thanks to Mission Hills Country Club for graciously hosting us and for their continued support.\n\nA special thank you to our sponsors:\n\nCity of Rancho Mirage\n\nDesert Arc Shredding & Recycling\n\nBanc of California\n\nDPS Logistics\n\nWe truly appreciate your partnership and commitment to helping make this event a success.
X-ALT-DESC;FMTTYPE=text/html:Join us for our fifth and final Signature Speaker Series of the season featuring&nbsp\;<strong>Maggie Montez\, </strong>Lee &amp\;<strong> </strong>Associates Commercial Real Estate and <strong>Harma Hartouni\, </strong>Equity Union Real Estate delivering an update of the current real estate market for housing\, retail\, and beyond.<br />\nFollowing the presentation we will have self introductions.&nbsp\; Please bring your business cards!&nbsp\; We will share all guest information with all attendees via email following the event.\n<p data-end="205" data-start="68" style="color: rgb(51\, 51\, 51)\; font-family: sans-serif\, Arial\, Verdana\, &quot\;Trebuchet MS&quot\;\; font-size: 13px\;"><span class="BZ_Pyq_fadeIn">We&nbsp\;</span><span class="BZ_Pyq_fadeIn">would&nbsp\;</span><span class="BZ_Pyq_fadeIn">like&nbsp\;</span><span class="BZ_Pyq_fadeIn">to&nbsp\;</span><span class="BZ_Pyq_fadeIn">extend&nbsp\;</span><span class="BZ_Pyq_fadeIn">our&nbsp\;</span><span class="BZ_Pyq_fadeIn">sincere&nbsp\;</span><span class="BZ_Pyq_fadeIn">thanks&nbsp\;</span><span class="BZ_Pyq_fadeIn">to&nbsp\;</span><strong data-end="144" data-start="114"><span class="BZ_Pyq_fadeIn">Mission&nbsp\;</span><span class="BZ_Pyq_fadeIn">Hills&nbsp\;</span><span class="BZ_Pyq_fadeIn">Country&nbsp\;</span><span class="BZ_Pyq_fadeIn">Club</span></strong><span class="BZ_Pyq_fadeIn">&nbsp\;</span><span class="BZ_Pyq_fadeIn">for&nbsp\;</span><span class="BZ_Pyq_fadeIn">graciously&nbsp\;</span><span class="BZ_Pyq_fadeIn">hosting&nbsp\;</span><span class="BZ_Pyq_fadeIn">us&nbsp\;</span><span class="BZ_Pyq_fadeIn">and&nbsp\;</span><span class="BZ_Pyq_fadeIn">for&nbsp\;</span><span class="BZ_Pyq_fadeIn">their&nbsp\;</span><span class="BZ_Pyq_fadeIn">continued&nbsp\;</span><span class="BZ_Pyq_fadeIn">support.</span></p>\n\n<p data-end="245" data-start="207" style="color: rgb(51\, 51\, 51)\; font-family: sans-serif\, Arial\, Verdana\, &quot\;Trebuchet MS&quot\;\; font-size: 13px\;"><span class="BZ_Pyq_fadeIn">A&nbsp\;</span><span class="BZ_Pyq_fadeIn">special&nbsp\;</span><span class="BZ_Pyq_fadeIn">thank&nbsp\;</span><span class="BZ_Pyq_fadeIn">you&nbsp\;</span><span class="BZ_Pyq_fadeIn">to&nbsp\;</span><span class="BZ_Pyq_fadeIn">our&nbsp\;</span><span class="BZ_Pyq_fadeIn">sponsors:</span></p>\n\n<p data-end="313" data-start="247" style="color: rgb(51\, 51\, 51)\; font-family: sans-serif\, Arial\, Verdana\, &quot\;Trebuchet MS&quot\;\; font-size: 13px\;"><strong data-end="272" data-start="247"><span class="BZ_Pyq_fadeIn">City&nbsp\;</span><span class="BZ_Pyq_fadeIn">of&nbsp\;</span><span class="BZ_Pyq_fadeIn">Rancho&nbsp\;</span><span class="BZ_Pyq_fadeIn">Mirage</span></strong><br data-end="275" data-start="272" />\n<strong data-end="311" data-start="275"><span class="BZ_Pyq_fadeIn">Desert&nbsp\;</span><span class="BZ_Pyq_fadeIn">Arc&nbsp\;</span><span class="BZ_Pyq_fadeIn">Shredding &amp\;&nbsp\;</span><span class="BZ_Pyq_fadeIn">Recycling<br />\nBanc of California<br />\nDPS Logistics</span></strong></p>\n\n<p data-end="406" data-start="315" style="color: rgb(51\, 51\, 51)\; font-family: sans-serif\, Arial\, Verdana\, &quot\;Trebuchet MS&quot\;\; font-size: 13px\;"><span class="BZ_Pyq_fadeIn">We&nbsp\;</span><span class="BZ_Pyq_fadeIn">truly&nbsp\;</span><span class="BZ_Pyq_fadeIn">appreciate&nbsp\;</span><span class="BZ_Pyq_fadeIn">your&nbsp\;</span><span class="BZ_Pyq_fadeIn">partnership&nbsp\;</span><span class="BZ_Pyq_fadeIn">and&nbsp\;</span><span class="BZ_Pyq_fadeIn">commitment&nbsp\;</span><span class="BZ_Pyq_fadeIn">to&nbsp\;</span><span class="BZ_Pyq_fadeIn">helping&nbsp\;</span><span class="BZ_Pyq_fadeIn">make&nbsp\;</span><span class="BZ_Pyq_fadeIn">this&nbsp\;</span><span class="BZ_Pyq_fadeIn">event&nbsp\;</span><span class="BZ_Pyq_fadeIn">a&nbsp\;</span><span class="BZ_Pyq_fadeIn">success.</span></p>\n
LOCATION:Mission Hills Country Club 34600 Mission Hills Drive Rancho Mirage
UID:e.241.5767
SEQUENCE:3
DTSTAMP:20260422T170011Z
URL:https://dev.leapstaging.com/events/details/2026-signature-speaker-series-the-real-estate-roundup-housing-retail-and-beyond-5767
END:VEVENT

END:VCALENDAR
