BEGIN:VCALENDAR
VERSION:2.0
PRODID:-//ChamberMaster//Event Calendar 2.0//EN
METHOD:PUBLISH
X-PUBLISHED-TTL:P3D
REFRESH-INTERVAL:P3D
CALSCALE:GREGORIAN
BEGIN:VEVENT
DTSTART:20260520T183000Z
DTEND:20260520T203000Z
X-MICROSOFT-CDO-ALLDAYEVENT:FALSE
SUMMARY:2026 Signature Speaker Series VGPS: CV Economic Development Strategic Plan
DESCRIPTION:Join us for the second Signature Speaker Series of the season featuring Scott White\, President & CEO of Visit Greater Palm Springs\, and Sean Smith\, Director of Economic Development. They will present on the "Coachella Valley Economic Development Strategic Plan\," sharing key insights on tourism trends\, regional growth strategies\, and what it all means for our local business community.\nThis engaging conversation will highlight how our destination continues to evolve\, the initiatives driving visitation\, and the opportunities ahead for long-term economic development across the Coachella Valley.\n\nFollowing the program\, we'll host self-introductions so be sure to bring your business cards! Attendee contact information will be shared via email after the event to help you stay connected.\n\nWe extend our sincere thanks to Mission Hills Country Club for graciously hosting us and for their continued support.\n\nA special thank you to our sponsors:\n\nCity of Rancho Mirage\n\nDesert Arc Shredding & Recycling\n\nBanc of California\n\nMission Hills Country Club\n\nDPS Logistics\n\nWe truly appreciate your partnership and commitment to making this event a success.
X-ALT-DESC;FMTTYPE=text/html:Join us for the second Signature Speaker Series of the season featuring Scott White\, President &amp\; CEO of Visit Greater Palm Springs\, and Sean Smith\, Director of Economic Development. They will present on the &ldquo\;Coachella Valley Economic Development Strategic Plan\,&rdquo\; sharing key insights on tourism trends\, regional growth strategies\, and what it all means for our local business community.\n<p data-end="686" data-start="476">This engaging conversation will highlight how our destination continues to evolve\, the initiatives driving visitation\, and the opportunities ahead for long-term economic development across the Coachella Valley.</p>\n\n<p data-end="879" data-start="688">Following the program\, we&rsquo\;ll host self-introductions&mdash\;so be sure to bring your business cards! Attendee contact information will be shared via email after the event to help you stay connected.</p>\n\n<p data-end="998" data-start="881">We extend our sincere thanks to Mission Hills Country Club for graciously hosting us and for their continued support.</p>\n\n<p data-end="1163" data-start="1000">A special thank you to our sponsors:<br data-end="1039" data-start="1036" />\nCity of Rancho Mirage<br data-end="1063" data-start="1060" />\nDesert Arc Shredding &amp\; Recycling<br data-end="1098" data-start="1095" />\nBanc of California<br data-end="1119" data-start="1116" />\nMission Hills Country Club<br data-end="1148" data-start="1145" />\nDPS Logistics</p>\n\n<p data-end="1248" data-is-last-node="" data-is-only-node="" data-start="1165">We truly appreciate your partnership and commitment to making this event a success.</p>\n
LOCATION:Mission Hills Country Club 34600 Mission Hills Drive Rancho Mirage
UID:e.241.5764
SEQUENCE:3
DTSTAMP:20260422T141912Z
URL:https://dev.leapstaging.com/events/details/2026-signature-speaker-series-vgps-cv-economic-development-strategic-plan-5764
END:VEVENT

END:VCALENDAR
