BEGIN:VCALENDAR
VERSION:2.0
PRODID:-//ChamberMaster//Event Calendar 2.0//EN
METHOD:PUBLISH
X-PUBLISHED-TTL:P3D
REFRESH-INTERVAL:P3D
CALSCALE:GREGORIAN
BEGIN:VEVENT
DTSTART:20261204T180000Z
DTEND:20261204T220000Z
X-MICROSOFT-CDO-ALLDAYEVENT:FALSE
SUMMARY:Annual Holiday Open House Mixer\, Cookie Drive\, Toy Drive & Blood Drive
DESCRIPTION:
X-ALT-DESC;FMTTYPE=text/html:
LOCATION:Rancho Mirage Chamber of Commerce 71905 Highway 111\, Suite E Rancho Mirage
UID:e.241.5787
SEQUENCE:3
DTSTAMP:20260422T170000Z
URL:https://dev.leapstaging.com/events/details/annual-holiday-open-house-mixer-cookie-drive-toy-drive-blood-drive-5787
END:VEVENT

END:VCALENDAR
