BEGIN:VCALENDAR
VERSION:2.0
PRODID:-//ChamberMaster//Event Calendar 2.0//EN
METHOD:PUBLISH
X-PUBLISHED-TTL:P3D
REFRESH-INTERVAL:P3D
CALSCALE:GREGORIAN
BEGIN:VEVENT
DTSTART:20261113T000000Z
DTEND:20261113T030000Z
X-MICROSOFT-CDO-ALLDAYEVENT:FALSE
SUMMARY:Business Expo & Job Fair
DESCRIPTION:The 2026 Rancho Mirage Business Expo & Job Fair is the largest business expo in the Coachella Valley! Made possible by the generous support of The City of Rancho Mirage\, this signature event is designed to put local businesses front and center ? showcasing their products and services\, strengthening community connections\, and highlighting the vibrant economic landscape of our region.\n\nAt the core of this event is the Chamber's mission to connect businesses with talent and opportunity by creating a business-driven environment where companies lead the conversation. Employers have the opportunity to build brand visibility\, engage directly with the community\, and connect with job seekers through meaningful\, face-to-face interaction. By bringing employers and potential employees together in one dynamic setting\, the Expo supports workforce growth while reinforcing the strength and success of our local business community.\n\n  Agua Caliente Resort Casino & Spa\, Rancho Mirage\n\n(32-250 Bob Hope Dr\, Rancho Mirage)\n\n  Thursday\, November 12\n\n  4:00?7:00 PM\n\n  Admission: $10 per person at the door\n\n\nWhy Attend the Business Expo?\n\n  Unmatched Networking ? Connect with fellow Chamber members\, business owners\, non-profits\, and city leaders (nearly 800 attendees last year!)\n\n  Business Showcases & Demos ? Discover innovative products\, services\, and trends from local and regional companies\n\n  Community Engagement ? Build brand awareness and meaningful relationships in a lively\, interactive setting\n\n  Career Connections ? Meet top employers and explore job opportunities as part of the broader business experience\n\n  Food\, Giveaways & More ? Enjoy samples\, promotions\, and a fun evening celebrating local business
X-ALT-DESC;FMTTYPE=text/html:<span style="font-family:arial\;">The <strong>2026 Rancho Mirage Business Expo &amp\; Job Fair</strong> is the largest business expo in the Coachella Valley! Made possible by the generous support of <strong>The City of Rancho Mirage</strong>\, this signature event is designed to <strong>put local businesses front and center</strong> ? showcasing their products and services\, strengthening community connections\, and highlighting the vibrant economic landscape of our region.<br />\nAt the core of this event is the Chamber&#39\;s mission to <strong>connect businesses with talent and opportunity</strong> by creating a business-driven environment where companies lead the conversation. Employers have the opportunity to build brand visibility\, engage directly with the community\, and connect with job seekers through meaningful\, face-to-face interaction. By bringing employers and potential employees together in one dynamic setting\, the Expo supports workforce growth while reinforcing the strength and success of our local business community.<br />\n&#128205\; <strong>Agua Caliente Resort Casino &amp\; Spa\, Rancho Mirage</strong><br />\n(32-250 Bob Hope Dr\, Rancho Mirage)<br />\n&#128197\; <strong>Thursday\, November 12</strong><br />\n&#9200\; <strong>4:00?7:00 PM</strong><br />\n&#128178\; <strong>Admission: $10 per person at the door</strong></span>\n<div align="center" style="margin-bottom:0in\;text-align:center\;line-height:normal\;">\n<hr align="center" size="2" width="100%" /></div>\n<span style="font-family:arial\;"><strong><span style="font-size:13.5pt\;">Why Attend the Business Expo?</span></strong><br />\n&#129309\; <strong>Unmatched Networking</strong> ? Connect with fellow Chamber members\, business owners\, non-profits\, and city leaders (nearly <strong>800 attendees</strong> last year!)<br />\n&#128161\; <strong>Business Showcases &amp\; Demos</strong> ? Discover innovative products\, services\, and trends from local and regional companies<br />\n&#127775\; <strong>Community Engagement</strong> ? Build brand awareness and meaningful relationships in a lively\, interactive setting<br />\n&#128188\; <strong>Career Connections</strong> ? Meet top employers and explore job opportunities as part of the broader business experience<br />\n&#127881\; <strong>Food\, Giveaways &amp\; More</strong> ? Enjoy samples\, promotions\, and a fun evening celebrating local business</span>
LOCATION:Agua Caliente Resort Casino Spa Rancho Mirage 32250 Bob Hope Drive Rancho Mirage
UID:e.241.5769
SEQUENCE:3
DTSTAMP:20260423T020902Z
URL:https://dev.leapstaging.com/events/details/business-expo-job-fair-5769
END:VEVENT

END:VCALENDAR
