BEGIN:VCALENDAR
VERSION:2.0
PRODID:-//ChamberMaster//Event Calendar 2.0//EN
METHOD:PUBLISH
X-PUBLISHED-TTL:P3D
REFRESH-INTERVAL:P3D
CALSCALE:GREGORIAN
BEGIN:VEVENT
DTSTART:20261210T150000Z
DTEND:20261210T230000Z
X-MICROSOFT-CDO-ALLDAYEVENT:FALSE
SUMMARY:Chambermasters Golf Tournament
DESCRIPTION:The Rancho Mirage Chamber of Commerce is excited to announce the Chamber Masters Golf Tournament on Thursday\, December 10\, 2026\, at Mission Hills Country Club.\n\nEvent Details:\n\n\n	\n	Registration: 7:00 AM\n	\n	\n	Shotgun Start: 8:30 AM (weather permitting)\n	\n	\n	Format: Scramble\n	\n\n\nStart your day with a Bloody Mary Bar and a buffet breakfast\, followed by a fun and challenging round on the Arnold Palmer Signature Course\, the first of Palmer's desert designs\, opened in 1978. At 6\,834 yards\, the course is a member favorite\, featuring rolling fairways\, strategic doglegs\, and driving holes that offer a fair yet rewarding challenge for golfers of all skill levels.\n\nWrap up the morning with an Awards Ceremony while enjoying a delicious lunch.\n\nThank you to our Sponsors:\n\nCity of Rancho Mirage\n\nEisenhower Health\n\nBurrtec Waste and Recycling Services\n\n\n\nFinally\, a special thank you to our host and sponsor\, Mission Hills Country Club\, for making this day possible!
X-ALT-DESC;FMTTYPE=text/html:<p data-end="399" data-start="226">The Rancho Mirage Chamber of Commerce is excited to announce the <strong data-end="326" data-start="291">Chamber Masters Golf Tournament</strong> on <strong data-end="361" data-start="330">Thursday\, December 10\, 2026</strong>\, at <strong data-end="396" data-start="366">Mission Hills Country Club</strong>.</p>\n\n<p data-end="421" data-start="401"><strong data-end="419" data-start="401">Event Details:</strong></p>\n\n<ul data-end="528" data-start="422">\n	<li data-end="451" data-start="422">\n	<p data-end="451" data-start="424"><strong data-end="441" data-start="424">Registration:</strong> 7:00 AM</p>\n	</li>\n	<li data-end="503" data-start="452">\n	<p data-end="503" data-start="454"><strong data-end="472" data-start="454">Shotgun Start:</strong> 8:30 AM (weather permitting)</p>\n	</li>\n	<li data-end="528" data-start="504">\n	<p data-end="528" data-start="506"><strong data-end="517" data-start="506">Format:</strong> Scramble</p>\n	</li>\n</ul>\n\n<p data-end="930" data-start="530">Start your day with a <strong data-end="571" data-start="552">Bloody Mary Bar</strong> and a <strong data-end="598" data-start="578">buffet breakfast</strong>\, followed by a fun and challenging round on the <strong data-end="681" data-start="647">Arnold Palmer Signature Course</strong>\, the first of Palmer&#39\;s desert designs\, opened in 1978. At <strong data-end="754" data-start="739">6\,834 yards</strong>\, the course is a member favorite\, featuring rolling fairways\, strategic doglegs\, and driving holes that offer a fair yet rewarding challenge for golfers of all skill levels.</p>\n\n<p data-end="1019" data-start="932">Wrap up the morning with an <strong data-end="979" data-start="960">Awards Ceremony</strong> while enjoying a <strong data-end="1016" data-start="997">delicious lunch</strong>.</p>\n\n<p data-end="1129" data-start="1021"><strong>Thank you to our Sponsors:</strong><br />\nCity of Rancho Mirage<br />\nEisenhower Health<br />\nBurrtec Waste and Recycling Services<br />\n<br />\n<span style="color: rgb(51\, 51\, 51)\; font-family: sans-serif\, Arial\, Verdana\, &quot\;Trebuchet MS&quot\;\; font-size: 13px\; background-color: rgb(255\, 255\, 255)\;">Finally\, a special thank you to our&nbsp\;</span><strong data-end="1096" data-start="1048" style="color: rgb(51\, 51\, 51)\; font-family: sans-serif\, Arial\, Verdana\, &quot\;Trebuchet MS&quot\;\; font-size: 13px\; background-color: rgb(255\, 255\, 255)\;">host and&nbsp\;sponsor\, Mission Hills Country Club</strong><span style="color: rgb(51\, 51\, 51)\; font-family: sans-serif\, Arial\, Verdana\, &quot\;Trebuchet MS&quot\;\; font-size: 13px\; background-color: rgb(255\, 255\, 255)\;">\, for making this day possible!</span></p>\n
LOCATION:Mission Hills Country Club 34600 Mission Hills Drive Rancho Mirage
UID:e.241.5783
SEQUENCE:3
DTSTAMP:20260423T033854Z
URL:https://dev.leapstaging.com/events/details/chambermasters-golf-tournament-5783
END:VEVENT

END:VCALENDAR
