BEGIN:VCALENDAR
VERSION:2.0
PRODID:-//ChamberMaster//Event Calendar 2.0//EN
METHOD:PUBLISH
X-PUBLISHED-TTL:P3D
REFRESH-INTERVAL:P3D
CALSCALE:GREGORIAN
BEGIN:VEVENT
DTSTART;VALUE=DATE:20260703
DTEND;VALUE=DATE:20260704
TRANSP:TRANSPARENT
X-MICROSOFT-CDO-ALLDAYEVENT:TRUE
SUMMARY:Independence Day - Chamber office closed
DESCRIPTION:In observance of Independence day\, the chamber office will be closed.
X-ALT-DESC;FMTTYPE=text/html:In observance of Independence day\, the chamber office will be closed.
LOCATION:
UID:e.241.5532
SEQUENCE:3
DTSTAMP:20260422T221118Z
URL:https://dev.leapstaging.com/events/details/independence-day-chamber-office-closed-5532
END:VEVENT

END:VCALENDAR
