BEGIN:VCALENDAR
VERSION:2.0
PRODID:-//ChamberMaster//Event Calendar 2.0//EN
METHOD:PUBLISH
X-PUBLISHED-TTL:P3D
REFRESH-INTERVAL:P3D
CALSCALE:GREGORIAN
BEGIN:VEVENT
DTSTART:20261028T230000Z
DTEND:20261029T003000Z
X-MICROSOFT-CDO-ALLDAYEVENT:FALSE
SUMMARY:Kick Off to Season Mixer
DESCRIPTION:Join us for our monthly Meet & Greet Mixer as we Kick Off the Season. Come mix and mingle with like minded professionals. Great networking opportunity.  Be sure to bring your business cards!  We will collect and share all the cards after the mixer.
X-ALT-DESC;FMTTYPE=text/html:Join us for our monthly Meet &amp\; Greet Mixer as we Kick Off the Season. Come mix and mingle with like minded professionals. Great networking opportunity.&nbsp\; Be sure to bring your business cards!&nbsp\; We will collect and share all the cards after the mixer.
LOCATION:Westin Rancho Mirage Golf Resort & Spa 71333 Dinah Shore Drive Rancho Mirage
UID:e.241.5539
SEQUENCE:3
DTSTAMP:20260423T005224Z
URL:https://dev.leapstaging.com/events/details/kick-off-to-season-mixer-10-28-2026-5539
END:VEVENT

END:VCALENDAR
