BEGIN:VCALENDAR
VERSION:2.0
PRODID:-//ChamberMaster//Event Calendar 2.0//EN
METHOD:PUBLISH
X-PUBLISHED-TTL:P3D
REFRESH-INTERVAL:P3D
CALSCALE:GREGORIAN
BEGIN:VEVENT
DTSTART;VALUE=DATE:20260907
DTEND;VALUE=DATE:20260908
TRANSP:TRANSPARENT
X-MICROSOFT-CDO-ALLDAYEVENT:TRUE
SUMMARY:Labor Day - Chamber office closed
DESCRIPTION:In observance of Labor Day\, the chamber office is closed.
X-ALT-DESC;FMTTYPE=text/html:In observance of Labor Day\, the chamber office is closed.
LOCATION:
UID:e.241.5536
SEQUENCE:3
DTSTAMP:20260422T232409Z
URL:https://dev.leapstaging.com/events/details/labor-day-chamber-office-closed-5536
END:VEVENT

END:VCALENDAR
