BEGIN:VCALENDAR
VERSION:2.0
PRODID:-//ChamberMaster//Event Calendar 2.0//EN
METHOD:PUBLISH
X-PUBLISHED-TTL:P3D
REFRESH-INTERVAL:P3D
CALSCALE:GREGORIAN
BEGIN:VEVENT
DTSTART:20260624T230000Z
DTEND:20260625T003000Z
X-MICROSOFT-CDO-ALLDAYEVENT:FALSE
SUMMARY:Meet & Greet Mixer at Cambria
DESCRIPTION:Join us for our monthly Meet & Greet Mixer. Come mix and mingle with like minded professionals. Great networking opportunity.  Be sure to bring your business cards!  We will collect and share all the cards after the mixer.
X-ALT-DESC;FMTTYPE=text/html:Join us for our monthly Meet &amp\; Greet Mixer. Come mix and mingle with like minded professionals. Great networking opportunity.&nbsp\; Be sure to bring your business cards!&nbsp\; We will collect and share all the cards after the mixer.
LOCATION:Cambria 42210 Cook Street\, Suite M Palm Desert
UID:e.241.5531
SEQUENCE:3
DTSTAMP:20260422T192749Z
URL:https://dev.leapstaging.com/events/details/meet-greet-mixer-at-cambria-06-24-2026-5531
END:VEVENT

END:VCALENDAR
