BEGIN:VCALENDAR
VERSION:2.0
PRODID:-//ChamberMaster//Event Calendar 2.0//EN
METHOD:PUBLISH
X-PUBLISHED-TTL:P3D
REFRESH-INTERVAL:P3D
CALSCALE:GREGORIAN
BEGIN:VEVENT
DTSTART:20260422T230000Z
DTEND:20260423T003000Z
X-MICROSOFT-CDO-ALLDAYEVENT:FALSE
SUMMARY:Meet & Greet Mixer at Wally's Desert Turtle
DESCRIPTION:Join us for our monthly Meet & Greet Mixer. Come mix and mingle with like minded professionals. Great networking opportunity.  Be sure to bring your business cards!  We will collect and share all the cards after the mixer.
X-ALT-DESC;FMTTYPE=text/html:Join us for our monthly Meet &amp\; Greet Mixer. Come mix and mingle with like minded professionals. Great networking opportunity.&nbsp\; Be sure to bring your business cards!&nbsp\; We will collect and share all the cards after the mixer.
LOCATION:Wally's Desert Turtle 71775 Highway 111 Rancho Mirage
UID:e.241.5526
SEQUENCE:3
DTSTAMP:20260422T141829Z
URL:https://dev.leapstaging.com/events/details/meet-greet-mixer-at-wally-s-desert-turtle-5526
END:VEVENT

END:VCALENDAR
