BEGIN:VCALENDAR
VERSION:2.0
PRODID:-//ChamberMaster//Event Calendar 2.0//EN
METHOD:PUBLISH
X-PUBLISHED-TTL:P3D
REFRESH-INTERVAL:P3D
CALSCALE:GREGORIAN
BEGIN:VEVENT
DTSTART:20270126T173000Z
DTEND:20270126T183000Z
X-MICROSOFT-CDO-ALLDAYEVENT:FALSE
SUMMARY:Mornings with the CEO
DESCRIPTION:Starting this August\, I'm excited to launch "Mornings with the CEO" ? a monthly opportunity to connect with Katie.\n\n\n\nThese sessions are for everyone: members\, friends\, community members\, and leaders. Whether you're navigating business issues\, tackling challenges\, or seeking pathways for growth\, this is your chance to chat directly with me. My goal is to offer guidance\, share insights\, and spread a bit of positivity and encouragement to all who attend.\n\n\n\nConsider this your dedicated time to access me for those important conversations. I'm looking forward to connecting with you and supporting your journey.
X-ALT-DESC;FMTTYPE=text/html:<div><span style="font-size: 13px\;">Starting this August\, I&#39\;m excited to launch &quot\;Mornings with the CEO&quot\; ? a monthly opportunity to connect with Katie.</span></div>\n\n<div><br />\n<span style="font-size: 13px\;">These sessions are for everyone: members\, friends\, community members\, and leaders. Whether you&#39\;re navigating business issues\, tackling challenges\, or seeking pathways for growth\, this is your chance to chat directly with me. My goal is to offer guidance\, share insights\, and spread a bit of positivity and encouragement to all who attend.</span></div>\n\n<div><br />\n<span style="font-size: 13px\;">Consider this your dedicated time to access me for those important conversations. I&#39\;m looking forward to connecting with you and supporting your journey.</span></div>\n
LOCATION:Rancho Mirage Chamber of Commerce (behind Ferguson and Lamps Plus) 71905 Highway 111\, Suite E Rancho Mirage
UID:e.241.5379
SEQUENCE:3
DTSTAMP:20260423T050816Z
URL:https://dev.leapstaging.com/events/details/mornings-with-the-ceo-01-26-2027-5379
END:VEVENT

END:VCALENDAR
