BEGIN:VCALENDAR
VERSION:2.0
PRODID:-//ChamberMaster//Event Calendar 2.0//EN
METHOD:PUBLISH
X-PUBLISHED-TTL:P3D
REFRESH-INTERVAL:P3D
CALSCALE:GREGORIAN
BEGIN:VEVENT
DTSTART;VALUE=DATE:20261231
DTEND;VALUE=DATE:20270101
TRANSP:TRANSPARENT
X-MICROSOFT-CDO-ALLDAYEVENT:TRUE
SUMMARY:New Year's Eve - Chamber office closed
DESCRIPTION:In observance of New Year's Eve\, the chamber office will be closed.
X-ALT-DESC;FMTTYPE=text/html:In observance of New Year&#39\;s Eve\, the chamber office will be closed.
LOCATION:
UID:e.241.5547
SEQUENCE:3
DTSTAMP:20260423T034054Z
URL:https://dev.leapstaging.com/events/details/new-year-s-eve-chamber-office-closed-5547
END:VEVENT

END:VCALENDAR
