BEGIN:VCALENDAR
VERSION:2.0
PRODID:-//ChamberMaster//Event Calendar 2.0//EN
METHOD:PUBLISH
X-PUBLISHED-TTL:P3D
REFRESH-INTERVAL:P3D
CALSCALE:GREGORIAN
BEGIN:VEVENT
DTSTART:20260709T230000Z
DTEND:20260710T000000Z
X-MICROSOFT-CDO-ALLDAYEVENT:FALSE
SUMMARY:Ribbon Cutting/Anniversary Celebration for Giuseppe's Pizzeria
DESCRIPTION:Join us for a ribbon cutting and 1 year anniversary celebration for Giuseppe's Pizzeria located in the Marriott Shadow Ridge in Palm Desert.  Come out to celebrate and show your support to this member business.  Great networking opportunity\, be sure to bring plenty of business cards to share.
X-ALT-DESC;FMTTYPE=text/html:Join us for a ribbon cutting and 1 year anniversary celebration for Giuseppe&#39\;s Pizzeria located in the Marriott Shadow Ridge in Palm Desert.&nbsp\; Come out to celebrate and show your support to this member business.&nbsp\; Great networking opportunity\, be sure to bring plenty of business cards to share.
LOCATION:Giuseppe's Pizzeria Marriott Shadow Ridge 9002 Shadow Ridge Road Palm Desert
UID:e.241.5810
SEQUENCE:3
DTSTAMP:20260422T203639Z
URL:https://dev.leapstaging.com/events/details/ribbon-cutting-anniversary-celebration-for-giuseppe-s-pizzeria-5810
END:VEVENT

END:VCALENDAR
