BEGIN:VCALENDAR
VERSION:2.0
PRODID:-//ChamberMaster//Event Calendar 2.0//EN
METHOD:PUBLISH
X-PUBLISHED-TTL:P3D
REFRESH-INTERVAL:P3D
CALSCALE:GREGORIAN
BEGIN:VEVENT
DTSTART:20260526T220000Z
DTEND:20260526T230000Z
X-MICROSOFT-CDO-ALLDAYEVENT:FALSE
SUMMARY:Ribbon Cutting at Pawfect Time
DESCRIPTION:Join us for a special ribbon cutting ceremony for Pawfect Time in Palm Desert. Come out to meet and support this local member.  This is a great networking opportunity\, be sure to bring plenty of business cards to share.
X-ALT-DESC;FMTTYPE=text/html:Join us for a special ribbon cutting ceremony for Pawfect Time in Palm Desert. Come out to meet and support this local member.&nbsp\; This is a great networking opportunity\, be sure to bring plenty of business cards to share.
LOCATION:Pawfect Time 72221 Highway 111\, Suite 103 Palm Desert
UID:e.241.5801
SEQUENCE:3
DTSTAMP:20260422T180013Z
URL:https://dev.leapstaging.com/events/details/ribbon-cutting-at-pawfect-time-5801
END:VEVENT

END:VCALENDAR
